BEGIN:VCALENDAR
VERSION:2.0
PRODID:-//XIT-US.ORG - ECPv5.13.0//NONSGML v1.0//EN
CALSCALE:GREGORIAN
METHOD:PUBLISH
X-WR-CALNAME:XIT-US.ORG
X-ORIGINAL-URL:https://xit-us.org
X-WR-CALDESC:Events for XIT-US.ORG
REFRESH-INTERVAL;VALUE=DURATION:PT1H
X-Robots-Tag:noindex
X-PUBLISHED-TTL:PT1H
BEGIN:VTIMEZONE
TZID:UTC
BEGIN:STANDARD
TZOFFSETFROM:+0000
TZOFFSETTO:+0000
TZNAME:UTC
DTSTART:20220101T000000
END:STANDARD
END:VTIMEZONE
BEGIN:VEVENT
DTSTART;TZID=UTC:20220301T173000
DTEND;TZID=UTC:20220302T173000
DTSTAMP:20260426T031132
CREATED:20220128T204411Z
LAST-MODIFIED:20220128T204411Z
UID:13642-1646155800-1646242200@xit-us.org
SUMMARY:Purim
DESCRIPTION:Purim is celebrated every year on the 14th of the Hebrew month of Adar (late winter/early spring). Purim 2022 begins on Wednesday night\, March 16 and continues through Thursday\, March 17.  It commemorates the salvation of the Tribe of Yahudah in the ancient Persian empire from Haman’s plot to kill all of the Jews\, young and old\, infants and women\, in a single day.  Literally “lots” in ancient Persian\, Purim was thus named since Haman had thrown lots to determine when he would carry out his scheme\, as recorded in the Megillah (book of Esther).
URL:https://xit-us.org/event/purim/
LOCATION:South Campus\, 1234 Apple Avenue\, New York City\, NY\, 111111\, United States
CATEGORIES:Community,Feast Days,Fellowship
ATTACH;FMTTYPE=image/jpeg:https://xit-us.org/wp-content/uploads/2022/01/queenesther-1300x1200.jpg
END:VEVENT
BEGIN:VEVENT
DTSTART;TZID=UTC:20220216T173000
DTEND;TZID=UTC:20220217T173000
DTSTAMP:20260426T031132
CREATED:20220128T195819Z
LAST-MODIFIED:20220128T202040Z
UID:13636-1645032600-1645119000@xit-us.org
SUMMARY:New Moon
DESCRIPTION:Psalms 81:3 | View whole chapter | See verse in contextBlow up the trumpet in the new moon\, in the time appointed\, on our solemn feast day. \n2 Chronicles 8:13 | View whole chapter | See verse in contextEven after a certain rate every day\, offering according to the commandment of Moses\, on the sabbaths\, and on the new moons\, and on the solemn feasts\, three times in the year\, even in the feast of unleavened bread\, and in the feast of weeks\, and in the feast of tabernacles. \nPsalms 81:3 | View whole chapter | See verse in context\nBlow up the trumpet in the new moon\, in the time appointed\, on our solemn feast day. \n2 Chronicles 8:13 | View whole chapter | See verse in context\nEven after a certain rate every day\, offering according to the commandment of Moses\, on the sabbaths\, and on the new moons\, and on the solemn feasts\, three times in the year\, even in the feast of unleavened bread\, and in the feast of weeks\, and in the feast of tabernacles.
URL:https://xit-us.org/event/new-moon/
LOCATION:Online\, United States
CATEGORIES:Community,Feast Days,Fellowship,Literature,Outreach
ATTACH;FMTTYPE=image/jpeg:https://xit-us.org/wp-content/uploads/2022/01/full-moon-2500x1739.jpg
END:VEVENT
BEGIN:VEVENT
DTSTART;TZID=UTC:20220129T080000
DTEND;TZID=UTC:20220129T170000
DTSTAMP:20260426T031132
CREATED:20220125T144732Z
LAST-MODIFIED:20220125T151959Z
UID:13590-1643443200-1643475600@xit-us.org
SUMMARY:Daughters of Zion Online Class
DESCRIPTION:Come study Torah with us!
URL:https://xit-us.org/event/daughters-of-zion-online-class/
LOCATION:Online\, United States
CATEGORIES:Community,Fellowship,Outreach
ATTACH;FMTTYPE=image/jpeg:https://xit-us.org/wp-content/uploads/2020/05/doz2-740x410.jpg
END:VEVENT
END:VCALENDAR